BEGIN:VCALENDAR
VERSION:2.0
PRODID:-//hacksw/handcal//NONSGML v1.0//EN
BEGIN:VEVENT
SUMMARY:Tournoi de Mennecy - Challenge Gerard Pizzonero - Mini-Poussins
UID:70ec1126-6964-4484-950c-d236768ca400
DTSTART:20260524T100000Z
DTEND:20260524T160000Z
LOCATION:Localisation Gymnase Rene GUITTON - Dojo Gerard PIZZONERO - 66 Bld Charles de Gaulle 91540 Mennecy
CATEGORIES:Sportif
STATUS:
DESCRIPTION:<p><span style="font-size:14px;">Bonjour a toutes et
 tous. Notre club est invite pour le <strong>Tournoi Gerard Pizzonero
 </strong>le week-end des <strong>23 et 24 mai a
 Mennecy </strong></span></p>
 
 <p><span
 style="font-size:16px;"><strong>➡️ 24 mai apres-midi pour les
 Mini-Poussins ⬅️</strong></span></p>
 
 <p><span
 style="font-size:14px;">⚠️ </span><span
 style="font-size:16px;"><span style="color:#2980b9;"><strong>Date
 limite pour les inscriptions : 18 mai - Limitees a 15 combattants au
 maximum, filles et garcons confondus. </strong></span></span><span
 style="font-size:14px;">⚠️</span></p>
 
 <p><span
 style="font-size:16px;"><span
 style="color:#2980b9;"><strong>Responsable pour le club
 :</strong></span> Mahdi</span></p>
 
 <p><span
 style="font-size:16px;"><span
 style="color:#2980b9;"><strong>Categorie concernee et heures de
 pesees : </strong></span><strong><span style="color:#3498db;">⚠️
 </span><span style="color:#2980b9;">2 pesees differentes en fonction
 du poids</span></strong></span></p>
 
 <ul>
 	<li><span
 style="font-size:14px;"><strong>Mini-Poussins </strong>(2018-2019)
 <strong>de <u>moins de 25kg</u> </strong>: 13h30 –
 14h00</span></li>
 	<li><span
 style="font-size:14px;"><strong>Mini-Poussins </strong>(2018-2019)
 <strong>de <u>plus de 25kg</u> </strong>: 15h00 –
 15h30</span></li>
 </ul>
 
 <p><span style="font-size:16px;"><span
 style="color:#2980b9;"><strong>Deroulement
 :</strong></span></span></p>
 
 <ul>
 	<li><span
 style="font-size:14px;"><strong>Debut de la manifestation :
 </strong></span>
 
 	<ul>
 		<li><span
 style="font-size:14px;"><strong><u>Moins de 25kg</u> :
 14h30</strong></span></li>
 		<li><span
 style="font-size:14px;"><strong><u>Plus de 25kg</u> :
 16h</strong></span></li>
 	</ul>
 	</li>
 	<li><span
 style="font-size:14px;"><strong>Temps de randori :
 1mn30</strong></span></li>
 	<li><span
 style="font-size:14px;"><strong>Remise des recompenses au fur et a
 mesure de la manifestation</strong></span></li>
 </ul>
 
 <p><span
 style="font-size:16px;"><span
 style="color:#2980b9;"><strong>Consignes
 :</strong></span></span></p>
 
 <ul>
 	<li><span
 style="font-size:14px;">A votre <strong>arrivee </strong>au gymnase,
 merci de vous rapprocher de Mahdi afin de confirmer votre presence et
 d’avoir les consignes necessaires. </span></li>
 	<li><span
 style="font-size:14px;">Vous devez vous <strong>inscrire
 </strong>(faire la pesee en etant habille, si possible en survetement
 et ne pas oublier de retirer les chaussures)</span></li>
 	<li><span
 style="font-size:14px;">Ensuite direction les
 <strong>vestiaires</strong>.</span></li>
 	<li><span
 style="font-size:14px;"><strong>Attendre </strong>d’etre
 <strong>appele </strong>pour aller combattre. </span><span
 style="font-size:14px;">Mahdi sera presente si
 besoin.</span></li>
 	<li><span style="font-size:14px;">Apres les
 combats, remise de <strong>medaille et photos</strong>, ensuite
 <strong>se rhabiller et signaler son depart a
 Mahdi</strong>.</span></li>
 </ul>
 
 <p><span
 style="font-size:16px;"><span
 style="color:#2980b9;"><strong>Information importante
 :</strong></span></span><br />
 <span style="font-size:14px;">Les
 responsables designes par le club sont sur place pour <strong>motiver
 </strong>nos jeunes a l’entree et a la sortie du tatami, repondre
 aux questions des parents pour la methode a appliquer a ce tournoi,
 mais <strong>en aucun cas pour coacher les enfants</strong>.<br />
 En
 effet, la federation est stricte la-dessus, ce n’est <strong>pas
 permis</strong>.</span><br />
 <br />
 <span
 style="font-size:14px;">N’oubliez pas votre judogi, vos tongs et
 votre bouteille d’eau.</span></p>
URL;VALUE=URI:https://www.judomontgeroncrosne.fr/evenements/2026/05/24/tournoi-de-mennecy-challenge-gerard-pizzonero-mini-poussins-2441167
END:VEVENT
END:VCALENDAR
