BEGIN:VCALENDAR
VERSION:2.0
PRODID:-//hacksw/handcal//NONSGML v1.0//EN
BEGIN:VEVENT
SUMMARY:Tournoi de Mennecy - Challenge Gerard Pizzonero - Poussins
UID:0d25f787-64c4-490d-9eab-a3500dff7d5e
DTSTART:20260523T060000Z
DTEND:20260523T100000Z
LOCATION:Localisation Gymnase Rene GUITTON - Dojo Gerard PIZZONERO - 66 Bld Charles de Gaulle 91540 Mennecy
CATEGORIES:Sportif
STATUS:
DESCRIPTION:<p><span style="font-size:14px;">Bonjour a toutes et
 tous. Notre club est invite pour le <strong>Tournoi Gerard Pizzonero
 </strong>le week-end des <strong>23 et 24 mai a
 Mennecy </strong></span></p>
 
 <p><span
 style="font-size:16px;"><strong>➡️ 23 mai matin pour les
 Poussins ⬅️</strong></span></p>
 
 <p><span
 style="font-size:14px;">⚠️ </span><span
 style="font-size:16px;"><span style="color:#2980b9;"><strong>Date
 limite pour les inscriptions : 18 mai - Limitees a 15 combattants au
 maximum, filles et garcons confondus. </strong></span></span><span
 style="font-size:14px;">⚠️</span></p>
 
 <p><span
 style="font-size:16px;"><span
 style="color:#2980b9;"><strong>Responsable pour le club
 :</strong></span> Gaetan</span></p>
 
 <p><span
 style="font-size:16px;"><span
 style="color:#2980b9;"><strong>Categorie concernee et heures de
 pesees :</strong></span></span></p>
 
 <ul>
 	<li><span
 style="font-size:14px;"><strong>Poussins </strong>(2016-2017) : 8h30
 – 9h00</span></li>
 </ul>
 
 <p><span style="font-size:16px;"><span
 style="color:#2980b9;"><strong>Deroulement
 :</strong></span></span></p>
 
 <ul>
 	<li><span
 style="font-size:14px;"><strong>Debut de la manifestation :
 9h30</strong></span></li>
 	<li><span
 style="font-size:14px;"><strong>Temps de randori :
 1mn30</strong></span></li>
 	<li><span
 style="font-size:14px;"><strong>Remise des recompenses au fur et a
 mesure de la manifestation</strong></span></li>
 </ul>
 
 <p><span
 style="font-size:16px;"><span
 style="color:#2980b9;"><strong>Consignes
 :</strong></span></span></p>
 
 <ul>
 	<li><span
 style="font-size:14px;">A votre <strong>arrivee </strong>au gymnase,
 merci de vous rapprocher de Gaetan afin de confirmer votre presence
 et d’avoir les consignes necessaires. </span></li>
 	<li><span
 style="font-size:14px;">Vous devez vous <strong>inscrire
 </strong>(faire la pesee en etant habille, si possible en survetement
 et ne pas oublier de retirer les chaussures)</span></li>
 	<li><span
 style="font-size:14px;">Ensuite direction les
 <strong>vestiaires</strong>.</span></li>
 	<li><span
 style="font-size:14px;"><strong>Attendre </strong>d’etre
 <strong>appele </strong>pour aller combattre. </span><span
 style="font-size:14px;">Gaetan sera presente si
 besoin.</span></li>
 	<li><span style="font-size:14px;">Apres les
 combats, remise de <strong>medaille et photos</strong>, ensuite
 <strong>se rhabiller et signaler son depart a
 Gaetan</strong>.</span></li>
 </ul>
 
 <p><span
 style="font-size:16px;"><span
 style="color:#2980b9;"><strong>Information importante
 :</strong></span></span><br />
 <span style="font-size:14px;">Les
 responsables designes par le club sont sur place pour <strong>motiver
 </strong>nos jeunes a l’entree et a la sortie du tatami, repondre
 aux questions des parents pour la methode a appliquer a ce tournoi,
 mais <strong>en aucun cas pour coacher les enfants</strong>.<br />
 En
 effet, la federation est stricte la-dessus, ce n’est <strong>pas
 permis</strong>.</span><br />
 <br />
 <span
 style="font-size:14px;">N’oubliez pas votre judogi, vos tongs et
 votre bouteille d’eau.</span></p>
URL;VALUE=URI:https://www.judomontgeroncrosne.fr/evenements/2026/05/23/tournoi-de-mennecy-challenge-gerard-pizzonero-poussins-2441161
END:VEVENT
END:VCALENDAR
